BEGIN:VCALENDAR
VERSION:2.0
PRODID:-//Mairie de Saint Romain au Mont d&#039;Or - ECPv6.15.20//NONSGML v1.0//EN
CALSCALE:GREGORIAN
METHOD:PUBLISH
X-WR-CALNAME:Mairie de Saint Romain au Mont d&#039;Or
X-ORIGINAL-URL:https://saintromainaumontdor.fr
X-WR-CALDESC:Évènements pour Mairie de Saint Romain au Mont d&#039;Or
REFRESH-INTERVAL;VALUE=DURATION:PT1H
X-Robots-Tag:noindex
X-PUBLISHED-TTL:PT1H
BEGIN:VTIMEZONE
TZID:Europe/Paris
BEGIN:DAYLIGHT
TZOFFSETFROM:+0100
TZOFFSETTO:+0200
TZNAME:CEST
DTSTART:20250330T010000
END:DAYLIGHT
BEGIN:STANDARD
TZOFFSETFROM:+0200
TZOFFSETTO:+0100
TZNAME:CET
DTSTART:20251026T010000
END:STANDARD
BEGIN:DAYLIGHT
TZOFFSETFROM:+0100
TZOFFSETTO:+0200
TZNAME:CEST
DTSTART:20260329T010000
END:DAYLIGHT
BEGIN:STANDARD
TZOFFSETFROM:+0200
TZOFFSETTO:+0100
TZNAME:CET
DTSTART:20261025T010000
END:STANDARD
BEGIN:DAYLIGHT
TZOFFSETFROM:+0100
TZOFFSETTO:+0200
TZNAME:CEST
DTSTART:20270328T010000
END:DAYLIGHT
BEGIN:STANDARD
TZOFFSETFROM:+0200
TZOFFSETTO:+0100
TZNAME:CET
DTSTART:20271031T010000
END:STANDARD
END:VTIMEZONE
BEGIN:VEVENT
DTSTART;TZID=Europe/Paris:20260529T190000
DTEND;TZID=Europe/Paris:20260529T220000
DTSTAMP:20260423T192839
CREATED:20260423T134524Z
LAST-MODIFIED:20260423T140956Z
UID:4807-1780081200-1780092000@saintromainaumontdor.fr
SUMMARY:APEPS : vendredi 29 mai - soirée des CM1-CM2-6ème
DESCRIPTION:Tu es ou tu as été scolarisé à Saint Romain ou tu habites le village ? \nOn t’attend le vendredi 29 mai à la salle Pierre Poivre à partir de 19H pour une soirée inoubliable ! \nSoirée proposée par l’APEPS \n  \n 
URL:https://saintromainaumontdor.fr/event/apeps-vendredi-29-mai-soiree-des-cm1-cm2-6eme/
LOCATION:Salle Pierre Poivre\, place de l'église\, Saint Romain au Mont d'or\, 69270\, France
CATEGORIES:APEPS,Événements
ATTACH;FMTTYPE=image/jpeg:https://saintromainaumontdor.fr/wp-content/uploads/2024/11/Logo-APAEPS.jpeg
END:VEVENT
END:VCALENDAR